BEGIN:VCALENDAR
VERSION:2.0
PRODID:-//Sørvest Bandyregion//Handlingsplan//NO
CALSCALE:GREGORIAN
BEGIN:VEVENT
UID:69e76ee4093b4@dittdomene.no
DTSTAMP:20260421T123444Z
DTSTART;VALUE=DATE:20260610
DTEND;VALUE=DATE:20260611
SUMMARY:Bandy - Årsmøte (ting) bandyseksjonen 2026
DESCRIPTION:Arrangør: Bandyseksjonen\nTema: Organisasjon og ledelse\n\nÅrsmøte bandyseksjonen på Ullevål Stadion.
END:VEVENT
END:VCALENDAR
