BEGIN:VCALENDAR
VERSION:2.0
PRODID:-//Sørvest Bandyregion//Handlingsplan//NO
CALSCALE:GREGORIAN
BEGIN:VEVENT
UID:69e76dd8e2713@dittdomene.no
DTSTAMP:20260421T123016Z
DTSTART;VALUE=DATE:20260215
DTEND;VALUE=DATE:20260216
SUMMARY:HBK - Ungdomsturnering i Søreidehallen
DESCRIPTION:Arrangør: Hordaland Bandykrets\nTema: Arrangement\n\nSiste turneringsdag i Ungdomsprosjektet.\nGjennomført med følgende lag:\nU13: 4 lag (FRI\, Sædalen\, Søreide og Sunde)\n\nSunde (tilreisende fra Rogaland)
END:VEVENT
END:VCALENDAR
