BEGIN:VCALENDAR
VERSION:2.0
PRODID:-//Sørvest Bandyregion//Handlingsplan//NO
CALSCALE:GREGORIAN
BEGIN:VEVENT
UID:69e76da7c97df@dittdomene.no
DTSTAMP:20260421T122927Z
DTSTART;VALUE=DATE:20260614
DTEND;VALUE=DATE:20260615
SUMMARY:SØBR - Styremøte juni 2026
DESCRIPTION:Arrangør: Sørøst Bandyregion\nTema: Organisasjon og ledelse\n\nStyremøte 14. juni 2026
END:VEVENT
END:VCALENDAR
