BEGIN:VCALENDAR
VERSION:2.0
PRODID:-//Sørvest Bandyregion//Handlingsplan//NO
CALSCALE:GREGORIAN
BEGIN:VEVENT
UID:69e76dfb7c2bb@dittdomene.no
DTSTAMP:20260421T123051Z
DTSTART;VALUE=DATE:20260510
DTEND;VALUE=DATE:20260511
SUMMARY:SØBR - Styremøte mai 2026
DESCRIPTION:Arrangør: Sørøst Bandyregion\nTema: Organisasjon og ledelse\n\nStyremøte 10. mai 2026
END:VEVENT
END:VCALENDAR
