BEGIN:VCALENDAR
VERSION:2.0
PRODID:-//Sørvest Bandyregion//Handlingsplan//NO
CALSCALE:GREGORIAN
BEGIN:VEVENT
UID:69e76dd86be42@dittdomene.no
DTSTAMP:20260421T123016Z
DTSTART;VALUE=DATE:20260412
DTEND;VALUE=DATE:20260413
SUMMARY:SØBR - Styremøte april 2026
DESCRIPTION:Arrangør: Sørøst Bandyregion\nTema: Organisasjon og ledelse\n\nStyremøte 12. april 2026
END:VEVENT
END:VCALENDAR
