BEGIN:VCALENDAR
VERSION:2.0
PRODID:-//Sørvest Bandyregion//Handlingsplan//NO
CALSCALE:GREGORIAN
BEGIN:VEVENT
UID:69e76e2bda180@dittdomene.no
DTSTAMP:20260421T123139Z
DTSTART;VALUE=DATE:20260301
DTEND;VALUE=DATE:20260302
SUMMARY:SØBR - Styremøte mars 2026
DESCRIPTION:Arrangør: Sørøst Bandyregion\nTema: Organisasjon og ledelse\n\nStyremøte 1. mars 2026
END:VEVENT
END:VCALENDAR
