BEGIN:VCALENDAR
VERSION:2.0
PRODID:-//Sørvest Bandyregion//Handlingsplan//NO
CALSCALE:GREGORIAN
BEGIN:VEVENT
UID:69e76eaa6e7bb@dittdomene.no
DTSTAMP:20260421T123346Z
DTSTART;VALUE=DATE:20260521
DTEND;VALUE=DATE:20260522
SUMMARY:SØBR - Regionsting 2026
DESCRIPTION:Arrangør: Sørøst Bandyregion\nTema: Organisasjon og ledelse\n\nÅrsmøte for Sørøst Bandyregion avholdes 21. mai 2026.\nSted: Breimyra 1\, 1739 Borgenhaugen.\nTid: 18:00
END:VEVENT
END:VCALENDAR
