BEGIN:VCALENDAR
VERSION:2.0
PRODID:-//Sørvest Bandyregion//Handlingsplan//NO
CALSCALE:GREGORIAN
BEGIN:VEVENT
UID:69e76ddcaacd8@dittdomene.no
DTSTAMP:20260421T123020Z
DTSTART;VALUE=DATE:20260321
DTEND;VALUE=DATE:20260322
SUMMARY:MNBR - Trenerkurs 1
DESCRIPTION:Arrangør: Midt-Norge Bandyregion\nTema: Trener\n\nTrener 1 kurs 21.-22. mars i Byneshallen\, Trondheim.
END:VEVENT
END:VCALENDAR
