BEGIN:VCALENDAR
VERSION:2.0
PRODID:-//Sørvest Bandyregion//Handlingsplan//NO
CALSCALE:GREGORIAN
BEGIN:VEVENT
UID:69e76dfe56de2@dittdomene.no
DTSTAMP:20260421T123054Z
DTSTART;VALUE=DATE:20260526
DTEND;VALUE=DATE:20260527
SUMMARY:MNBR - Regionsting 2026
DESCRIPTION:Arrangør: Midt-Norge Bandyregion\nTema: Organisasjon og ledelse\n\nÅrsmøte til Midt-Norge Bandyregion avholdes tirsdag 26. mai 2026.\nInnkalling sendes snart.
END:VEVENT
END:VCALENDAR
