BEGIN:VCALENDAR
VERSION:2.0
PRODID:-//Sørvest Bandyregion//Handlingsplan//NO
CALSCALE:GREGORIAN
BEGIN:VEVENT
UID:69e76e539a67e@dittdomene.no
DTSTAMP:20260421T123219Z
DTSTART;VALUE=DATE:20260226
DTEND;VALUE=DATE:20260227
SUMMARY:OABR - Klyngemøte 26. februar 2026
DESCRIPTION:Arrangør: Oslo og Akershus Bandyregion\nTema: Organisasjon og ledelse\n\nKlyngemøte for Monolitten\, IK Akerselva\, Lyn\, Vestre Aker Sports klubb\, Korsvoll\, Vika/Filipstad\, Sagene IF\, Hasle/Løren\, Vålerenga IF Innebandy\, SF Grei\, Sveiva Innebandy\, HSIL\, Ellingsrud IF\, Haugerud IF\, Tunet Innebandy\, Østensjø Innebandy\, Bækkelaget Sport Klubb\, Sp. Sterling\, Gruner IL innebandy
END:VEVENT
END:VCALENDAR
