BEGIN:VCALENDAR
VERSION:2.0
PRODID:-//Sørvest Bandyregion//Handlingsplan//NO
CALSCALE:GREGORIAN
BEGIN:VEVENT
UID:69e76da6c8ab0@dittdomene.no
DTSTAMP:20260421T122926Z
DTSTART;VALUE=DATE:20260304
DTEND;VALUE=DATE:20260305
SUMMARY:OABR - Klyngemøte 4. mars 2026
DESCRIPTION:Arrangør: Oslo og Akershus Bandyregion\nTema: Organisasjon og ledelse\n\nKlyngemøte for Asker Innebandy\, Asker Fleridrettslag\, Bærums/Verk\, Slemmestad IF innebandy\, ROS\, Oksen IL\, Nesøya IL\, Snarøya\, Nor 92\, Holøværingen og Drammen
END:VEVENT
END:VCALENDAR
