BEGIN:VCALENDAR
VERSION:2.0
PRODID:-//Sørvest Bandyregion//Handlingsplan//NO
CALSCALE:GREGORIAN
BEGIN:VEVENT
UID:69e76e8c198b5@dittdomene.no
DTSTAMP:20260421T123316Z
DTSTART;VALUE=DATE:20260309
DTEND;VALUE=DATE:20260310
SUMMARY:OABR - Klyngemøte 9. mars 2026
DESCRIPTION:Arrangør: Oslo og Akershus Bandyregion\nTema: Organisasjon og ledelse\n\nKlyngemøte for Lambertseter IF\, MASK\, Hauketo IF\, Holmlia SK\, Ski Innebandy\, Driv IL\, Drøbak-Frogn IL (DFI)\, Nesodden IF\, Fagerstrand og Soon IL
END:VEVENT
END:VCALENDAR
