BEGIN:VCALENDAR
VERSION:2.0
PRODID:-//Sørvest Bandyregion//Handlingsplan//NO
CALSCALE:GREGORIAN
BEGIN:VEVENT
UID:69e76e8a76a84@dittdomene.no
DTSTAMP:20260421T123314Z
DTSTART;VALUE=DATE:20260311
DTEND;VALUE=DATE:20260312
SUMMARY:OABR - Klyngemøte 11. mars 2026
DESCRIPTION:Arrangør: Oslo og Akershus Bandyregion\nTema: Organisasjon og ledelse\n\nKlyngemøte for Lørenskog\, Lillestrøm\, Fjerdingby\, Fet\, Frogner\, Hakadal\, Gjelleråsen\, Gjerdrum\, Nittedal\, Nes\, Ull/Kisa\, Kløfta\, Strømmen\, Råholt\, Aurskog-Finstadbru
END:VEVENT
END:VCALENDAR
