BEGIN:VCALENDAR
VERSION:2.0
PRODID:-//Sørvest Bandyregion//Handlingsplan//NO
CALSCALE:GREGORIAN
BEGIN:VEVENT
UID:69e76e4ad9cc5@dittdomene.no
DTSTAMP:20260421T123210Z
DTSTART;VALUE=DATE:20260411
DTEND;VALUE=DATE:20260412
SUMMARY:NNBR - Sesongens siste Minirunde Bodø og Senja
DESCRIPTION:Arrangør: Nord-Norge Bandyregion\nTema: Arrangement\n\nSiste Minirunde arrangeres 11. april 2026 i Bodø og Senja.
END:VEVENT
END:VCALENDAR
