BEGIN:VCALENDAR
VERSION:2.0
PRODID:-//Sørvest Bandyregion//Handlingsplan//NO
CALSCALE:GREGORIAN
BEGIN:VEVENT
UID:69e76ea9e835c@dittdomene.no
DTSTAMP:20260421T123345Z
DTSTART;VALUE=DATE:20260204
DTEND;VALUE=DATE:20260205
SUMMARY:Innebandy - Polish Cup U19 kvinner 4.-8. februar 2026
DESCRIPTION:Arrangør: Innebandyseksjonen\nTema: Arrangement\n\nU19-landslaget deltar i Polish Cup.
END:VEVENT
END:VCALENDAR
