BEGIN:VCALENDAR
VERSION:2.0
PRODID:-//Sørvest Bandyregion//Handlingsplan//NO
CALSCALE:GREGORIAN
BEGIN:VEVENT
UID:69e76ea86e06b@dittdomene.no
DTSTAMP:20260421T123344Z
DTSTART;VALUE=DATE:20260204
DTEND;VALUE=DATE:20260205
SUMMARY:Innebandy - VM-kvalifisering A-landslaget Menn 4.-8. februar 2026
DESCRIPTION:Arrangør: Innebandyseksjonen\nTema: Arrangement\n\nNorge kvalifisert til VM.
END:VEVENT
END:VCALENDAR
