BEGIN:VCALENDAR
VERSION:2.0
PRODID:-//Sørvest Bandyregion//Handlingsplan//NO
CALSCALE:GREGORIAN
BEGIN:VEVENT
UID:69e76ee28ba39@dittdomene.no
DTSTAMP:20260421T123442Z
DTSTART;VALUE=DATE:20260613
DTEND;VALUE=DATE:20260614
SUMMARY:Innebandy - Seksjonsårsmøte (ting) lørdag 13. juni 2026
DESCRIPTION:Arrangør: Innebandyseksjonen\nTema: Organisasjon og ledelse\n\nÅrsmøte innebandyseksjonen.
END:VEVENT
END:VCALENDAR
