BEGIN:VCALENDAR
VERSION:2.0
PRODID:-//Sørvest Bandyregion//Handlingsplan//NO
CALSCALE:GREGORIAN
BEGIN:VEVENT
UID:69e76e92d2265@dittdomene.no
DTSTAMP:20260421T123322Z
DTSTART;VALUE=DATE:20260506
DTEND;VALUE=DATE:20260507
SUMMARY:Innebandy - VM U19 Kvinner Italia 6.-10. mai 2026
DESCRIPTION:Arrangør: Innebandyseksjonen\nTema: Arrangement\n\nVM i Italia 6.-10. mai 2026.\nSamling i forkant 1.-3. mai.
END:VEVENT
END:VCALENDAR
