BEGIN:VCALENDAR
VERSION:2.0
PRODID:-//Sørvest Bandyregion//Handlingsplan//NO
CALSCALE:GREGORIAN
BEGIN:VEVENT
UID:69e76e2ad918b@dittdomene.no
DTSTAMP:20260421T123138Z
DTSTART;VALUE=DATE:20260505
DTEND;VALUE=DATE:20260506
SUMMARY:HBK - Årsmøte (ting) 2026
DESCRIPTION:Arrangør: Hordaland Bandykrets\nTema: Organisasjon og ledelse\n\nÅrsmøte 2026.\nDato publisert på kretsens nettside.
END:VEVENT
END:VCALENDAR
