BEGIN:VCALENDAR
VERSION:2.0
PRODID:-//Sørvest Bandyregion//Handlingsplan//NO
CALSCALE:GREGORIAN
BEGIN:VEVENT
UID:69e76e5420c39@dittdomene.no
DTSTAMP:20260421T123220Z
DTSTART;VALUE=DATE:20260213
DTEND;VALUE=DATE:20260214
SUMMARY:SVBR - Trener 1 Agder februar 2026
DESCRIPTION:Arrangør: Sørvest Bandyregion\nTema: Trener\n\nUtsatt til høsten 2026\, grunnet få påmeldinger.
END:VEVENT
END:VCALENDAR
