BEGIN:VCALENDAR
VERSION:2.0
PRODID:-//Sørvest Bandyregion//Handlingsplan//NO
CALSCALE:GREGORIAN
BEGIN:VEVENT
UID:69e76ee21b0cc@dittdomene.no
DTSTAMP:20260421T123442Z
DTSTART;VALUE=DATE:20260219
DTEND;VALUE=DATE:20260220
SUMMARY:SVBR - Styremøte 2/2026
DESCRIPTION:Arrangør: Sørvest Bandyregion\nTema: Organisasjon og ledelse\n\nMøteinfo og agenda ligger i Orgbrain.
END:VEVENT
END:VCALENDAR
