BEGIN:VCALENDAR
VERSION:2.0
PRODID:-//Sørvest Bandyregion//Handlingsplan//NO
CALSCALE:GREGORIAN
BEGIN:VEVENT
UID:69e76e5320bcb@dittdomene.no
DTSTAMP:20260421T123219Z
DTSTART;VALUE=DATE:20260418
DTEND;VALUE=DATE:20260419
SUMMARY:Innebandy - NM-finale G17\, J17\, Menn Senior\, Kvinner Senior
DESCRIPTION:Arrangør: Innebandyseksjonen\nTema: Arrangement\n\nNM-finaler i Fjellhamar Arena.\n\nNM-finalene spilles som følger:\n\nLørdag 18. april\nJ17: Tunet – Nittedal | 10:00 (6-3)\nG17: Greåker – Gjelleråsen | 13:00 (4-8)\nKvinner: Tunet – Grei | 16:30 (8-6)\nMenn: Slevik/Nor 92 – Tunet | 19:45 (5-3)
END:VEVENT
END:VCALENDAR
