BEGIN:VCALENDAR
VERSION:2.0
PRODID:-//Sørvest Bandyregion//Handlingsplan//NO
CALSCALE:GREGORIAN
BEGIN:VEVENT
UID:69e76dd668183@dittdomene.no
DTSTAMP:20260421T123014Z
DTSTART;VALUE=DATE:20260419
DTEND;VALUE=DATE:20260420
SUMMARY:Innebandy - NM-finaler G19\, J19\, G15\, J15
DESCRIPTION:Arrangør: Innebandyseksjonen\nTema: Arrangement\n\nNM-finaler i Fjellhamar Arena.\n\nSøndag 19. april\nJ15: Tunet – Brumunddal | 10:00 (8-0)\nG15: Tunet – Sarpsborg | 13:00 (5-11)\nJ19: Sveiva – Tunet | 16:00 (2-9)\nG19: Gjelleråsen – Sveiva | 19:00 (8-5)
END:VEVENT
END:VCALENDAR
