BEGIN:VCALENDAR
VERSION:2.0
PRODID:-//Sørvest Bandyregion//Handlingsplan//NO
CALSCALE:GREGORIAN
BEGIN:VEVENT
UID:69e76e8a7692f@dittdomene.no
DTSTAMP:20260421T123314Z
DTSTART;VALUE=DATE:20260311
DTEND;VALUE=DATE:20260312
SUMMARY:SVBR - Klubbkveld Rogaland
DESCRIPTION:Arrangør: Sørvest Bandyregion\nTema: Organisasjon og ledelse\n\nKlubbkveld med tema utvikling av klubb.\nLøft din klubb til neste steg.\nInnlegg fra Sandnes IBK om rekruttering og kulturbygging. \nCa 25 deltagere.
END:VEVENT
END:VCALENDAR
