BEGIN:VCALENDAR
VERSION:2.0
PRODID:-//Sørvest Bandyregion//Handlingsplan//NO
CALSCALE:GREGORIAN
BEGIN:VEVENT
UID:69e76e95a77d8@dittdomene.no
DTSTAMP:20260421T123325Z
DTSTART;VALUE=DATE:20260614
DTEND;VALUE=DATE:20260615
SUMMARY:SVBR - Sonesamling G17 Rogaland
DESCRIPTION:Arrangør: Sørvest Bandyregion\nTema: Aktivitet\n\nSonesamling G17 i Rogaland.\nHalltid ikke bekreftet.
END:VEVENT
END:VCALENDAR
