BEGIN:VCALENDAR
VERSION:2.0
PRODID:-//Sørvest Bandyregion//Handlingsplan//NO
CALSCALE:GREGORIAN
BEGIN:VEVENT
UID:69e76ea793427@dittdomene.no
DTSTAMP:20260421T123343Z
DTSTART;VALUE=DATE:20260412
DTEND;VALUE=DATE:20260413
SUMMARY:SVBR - Sonesamling G17 Rogaland
DESCRIPTION:Arrangør: Sørvest Bandyregion\nTema: Aktivitet\n\nSonesamling 12. april for G17.\n
END:VEVENT
END:VCALENDAR
