BEGIN:VCALENDAR
VERSION:2.0
PRODID:-//Sørvest Bandyregion//Handlingsplan//NO
CALSCALE:GREGORIAN
BEGIN:VEVENT
UID:69e76ddda9339@dittdomene.no
DTSTAMP:20260421T123021Z
DTSTART;VALUE=DATE:20251228
DTEND;VALUE=DATE:20251229
SUMMARY:SVBR - Ribbecup 2025
DESCRIPTION:Arrangør: Sørvest Bandyregion\nTema: Arrangement\n\nRibbecup gjennomført med 42 lag.
END:VEVENT
END:VCALENDAR
