BEGIN:VCALENDAR
VERSION:2.0
PRODID:-//Sørvest Bandyregion//Handlingsplan//NO
CALSCALE:GREGORIAN
BEGIN:VEVENT
UID:69e76e549ab09@dittdomene.no
DTSTAMP:20260421T123220Z
DTSTART;VALUE=DATE:20260321
DTEND;VALUE=DATE:20260322
SUMMARY:SVBR - Styremøte 3/2026 og samling med SU\, DK og ansatte
DESCRIPTION:Arrangør: Sørvest Bandyregion\nTema: Organisasjon og ledelse\n\nSamling med styret\, SU\, DK og ansatte i Stavanger.\n
END:VEVENT
END:VCALENDAR
