BEGIN:VCALENDAR
VERSION:2.0
PRODID:-//Sørvest Bandyregion//Handlingsplan//NO
CALSCALE:GREGORIAN
BEGIN:VEVENT
UID:69e76dfbcf992@dittdomene.no
DTSTAMP:20260421T123051Z
DTSTART;VALUE=DATE:20260123
DTEND;VALUE=DATE:20260124
SUMMARY:SVBR - Vgs-turnering Stavanger Idrettshall 23. jan 2026
DESCRIPTION:Arrangør: Sørvest Bandyregion\nTema: Arrangement\n\nÅrlig skoleturnering
END:VEVENT
END:VCALENDAR
