BEGIN:VCALENDAR
VERSION:2.0
PRODID:-//Sørvest Bandyregion//Handlingsplan//NO
CALSCALE:GREGORIAN
BEGIN:VEVENT
UID:69e76e952c771@dittdomene.no
DTSTAMP:20260421T123325Z
DTSTART;VALUE=DATE:20260122
DTEND;VALUE=DATE:20260123
SUMMARY:SVBR - Ungdomsskoleturnering Stavanger Idrettshall 22. jan 2026
DESCRIPTION:Arrangør: Sørvest Bandyregion\nTema: Arrangement\n\nÅrlig skoleturnering i Stavanger Idrettshall.\nGjennomført 22. januar 2026 med 13 guttelag og 10 jentelag.
END:VEVENT
END:VCALENDAR
