BEGIN:VCALENDAR
VERSION:2.0
PRODID:-//Sørvest Bandyregion//Handlingsplan//NO
CALSCALE:GREGORIAN
BEGIN:VEVENT
UID:69e76e8b93596@dittdomene.no
DTSTAMP:20260421T123315Z
DTSTART;VALUE=DATE:20260124
DTEND;VALUE=DATE:20260125
SUMMARY:SVBR - NM Gutter 15 24.-25. jan 2026
DESCRIPTION:Arrangør: Sørvest Bandyregion\nTema: Arrangement\n\nGjennomføre NM Gutter 15 med Stavanger IBK som teknisk arrangør.
END:VEVENT
END:VCALENDAR
