BEGIN:VCALENDAR
VERSION:2.0
PRODID:-//Sørvest Bandyregion//Handlingsplan//NO
CALSCALE:GREGORIAN
BEGIN:VEVENT
UID:69e76dd62f006@dittdomene.no
DTSTAMP:20260421T123014Z
DTSTART;VALUE=DATE:20260301
DTEND;VALUE=DATE:20260302
SUMMARY:SVBR - Søke halltider Stavanger kommune faste arrangementer
DESCRIPTION:Arrangør: Sørvest Bandyregion\nTema: Arrangement\n\nSøke tider til følgende arrangementer:\n\nCamp Stavanger Idrettshall After-summer\nman-fre 10.-14. august 2026\n\nHøstferiecamper \nman-ons 5.-7. oktober 2026\n\nRibbecup \nmandag 28. desember 2026\n\nUngdomsskoleturnering Stavanger Idrettshall\ntorsdag 28. januar 2027\n\nVGS-turnering Stavanger Idrettshall\nfredag 29. januar 2027\n\nNM aldersbestemt\n30.-31. januar 2027\n\nVinterferiecamper\nman-ons 15.-17. februar 2027\n\nStavanger Open \n24.-25. april 2027\n\nSommercamp Stavanger Idrettshall\nman-tor 21.-24. juni 2027\n
END:VEVENT
END:VCALENDAR
