BEGIN:VCALENDAR
VERSION:2.0
PRODID:-//Sørvest Bandyregion//Handlingsplan//NO
CALSCALE:GREGORIAN
BEGIN:VEVENT
UID:69e76e4bd9e9f@dittdomene.no
DTSTAMP:20260421T123211Z
DTSTART;VALUE=DATE:20250808
DTEND;VALUE=DATE:20250809
SUMMARY:SVBR - Krågecup august 2025
DESCRIPTION:Arrangør: Sørvest Bandyregion\nTema: Arrangement\n\nSatt opp Krågecup august 2025.\nDet ble invitert lag fra topp 1. div / 2. div\, samt bunn elitelag.\nDessverre ble det ikke nok påmeldte lag.\nFor menn: Kun Lundskrågene IBK\nFor kvinner: Stavanger og Ull Kisa
END:VEVENT
END:VCALENDAR
