BEGIN:VCALENDAR
VERSION:2.0
PRODID:-//Sørvest Bandyregion//Handlingsplan//NO
CALSCALE:GREGORIAN
BEGIN:VEVENT
UID:69e76dd7e20c2@dittdomene.no
DTSTAMP:20260421T123015Z
DTSTART;VALUE=DATE:20251103
DTEND;VALUE=DATE:20251104
SUMMARY:SVBR - Klubbkveld november Agder
DESCRIPTION:Arrangør: Sørvest Bandyregion\nTema: Organisasjon og ledelse\n\nGjennomføre klubbkveld i Kristiansand.\nDato satt til 3. november 2025.\nAdministrasjonen stiller på møte.
END:VEVENT
END:VCALENDAR
