BEGIN:VCALENDAR
VERSION:2.0
PRODID:-//Sørvest Bandyregion//Handlingsplan//NO
CALSCALE:GREGORIAN
BEGIN:VEVENT
UID:69e76e8d19d2b@dittdomene.no
DTSTAMP:20260421T123317Z
DTSTART;VALUE=DATE:20250918
DTEND;VALUE=DATE:20250919
SUMMARY:SVBR - Fysisk styremøte 18. september 2025
DESCRIPTION:Arrangør: Sørvest Bandyregion\nTema: Organisasjon og ledelse\n\nGrunnet store reiseavstander\, er det krevende å samle styre fysisk.\nVi mener det er viktig og møtes for å bygge relasjoner og styrke samarbeid.\nDerfor gjennomføres det styremøte der vi samles i Stavanger 18. september.
END:VEVENT
END:VCALENDAR
