BEGIN:VCALENDAR
VERSION:2.0
PRODID:-//Sørvest Bandyregion//Handlingsplan//NO
CALSCALE:GREGORIAN
BEGIN:VEVENT
UID:69e76ea793183@dittdomene.no
DTSTAMP:20260421T123343Z
DTSTART;VALUE=DATE:20251008
DTEND;VALUE=DATE:20251009
SUMMARY:SVBR - Camper høstferien 2025 Rogaland
DESCRIPTION:Arrangør: Sørvest Bandyregion\nTema: Aktivitet\n\nGjennomføre høstferiecamper.\nFølgende er satt opp:\n\nStavanger Idrettshall\nGratis camp for jenter og gutter født 2007-2012.\n3 første dagene i høstferien (6.-8. oktober 2025)\n\nRiskahallen\nGratis camp for barneskole i Riskahallen.\n3 første dagene i høstferien.\n\nKvernevikhallen\nGratis camp for barneskole i Kvernevik.\n3 første dagene i høstferien.\n\nKleivane Idrettshall\nGratis camp for barneskole I Kleivane Idrettshall.\n3 siste dagene i høstferien.\n\nFrøyhallen\nGratis camp for barneskole i Frøyhallen.\n3 første dagene i høstferien.\n\nHundvåghallen\nGratis camp for barneskole i Hundvåghallen.\n3 siste dagene i høstferien.
END:VEVENT
END:VCALENDAR
