BEGIN:VCALENDAR
VERSION:2.0
PRODID:-//Sørvest Bandyregion//Handlingsplan//NO
CALSCALE:GREGORIAN
BEGIN:VEVENT
UID:69e76e2c5fef4@dittdomene.no
DTSTAMP:20260421T123140Z
DTSTART;VALUE=DATE:20250911
DTEND;VALUE=DATE:20250912
SUMMARY:SVBR - Dommersamling høst 2025 Agder
DESCRIPTION:Arrangør: Sørvest Bandyregion\nTema: Dommer\n\nGjennomføre Dommersamling i forkant av sesongen 2025/2026.\nSamlet i Kristiansand gjennom DK (Rune Davidsen) og deltok digitalt sammen med samlingen i Rogaland.\nBle gjennomført 11. september 2025.
END:VEVENT
END:VCALENDAR
